BEGIN:VCALENDAR
VERSION:2.0
PRODID:-//ChamberMaster//Event Calendar 2.0//EN
METHOD:PUBLISH
X-PUBLISHED-TTL:P1H
REFRESH-INTERVAL:P1H
CALSCALE:GREGORIAN
BEGIN:VTIMEZONE
TZID:America/Los_Angeles
BEGIN:DAYLIGHT
RRULE:FREQ=YEARLY;BYMONTH=3;BYDAY=2SU
DTSTART:20070101T000000
TZOFFSETFROM:-0800
TZOFFSETTO:-0700
TZNAME:Pacific Daylight Time
END:DAYLIGHT
BEGIN:STANDARD
RRULE:FREQ=YEARLY;BYMONTH=11;BYDAY=1SU
DTSTART:20070101T000000
TZOFFSETFROM:-0700
TZOFFSETTO:-0800
TZNAME:Pacific Standard Time
END:STANDARD
END:VTIMEZONE
BEGIN:VEVENT
DTSTART;TZID=America/Los_Angeles:20261019T170000
DTEND;TZID=America/Los_Angeles:20261020T170000
X-MICROSOFT-CDO-ALLDAYEVENT:FALSE
SUMMARY:2026 HBA Professional Women in Building (PWB) Retreat
DESCRIPTION:
X-ALT-DESC;FMTTYPE=text/html:
LOCATION:1157 N Marion Ave Gearhart OR 97138
UID:e.4788.1394122
SEQUENCE:3
DTSTAMP:20260422T000845Z
URL:https://members.hbapdx.org/hbaeventcalendar/Details/2026-hba-professional-women-in-building-pwb-retreat-1647231?sourceTypeId=Hub
END:VEVENT
END:VCALENDAR
