BEGIN:VCALENDAR
VERSION:2.0
PRODID:-//ChamberMaster//Event Calendar 2.0//EN
METHOD:PUBLISH
X-PUBLISHED-TTL:P1H
REFRESH-INTERVAL:P1H
CALSCALE:GREGORIAN
BEGIN:VTIMEZONE
TZID:America/Los_Angeles
BEGIN:DAYLIGHT
RRULE:FREQ=YEARLY;BYMONTH=3;BYDAY=2SU
DTSTART:20070101T000000
TZOFFSETFROM:-0800
TZOFFSETTO:-0700
TZNAME:Pacific Daylight Time
END:DAYLIGHT
BEGIN:STANDARD
RRULE:FREQ=YEARLY;BYMONTH=11;BYDAY=1SU
DTSTART:20070101T000000
TZOFFSETFROM:-0700
TZOFFSETTO:-0800
TZNAME:Pacific Standard Time
END:STANDARD
END:VTIMEZONE
BEGIN:VEVENT
DTSTART;TZID=America/Los_Angeles:20260625T173000
DTEND;TZID=America/Los_Angeles:20260625T193000
X-MICROSOFT-CDO-ALLDAYEVENT:FALSE
SUMMARY:All Member Happy Hour presented by Area Floors and programmed by the PWB Council
DESCRIPTION:Join HBA for an All-Member Happy Hour at Area Floors in Lake Oswego!\n\nArea Floors is thrilled to welcome HBA members and their guests to it's Lake Oswego showroom for an evening of connection and relationship-building. Mingle\, network\, and build lasting partnerships with fellow HBA members. Our All Member Happy Hours are a fun and engaging way to grow your professional network while gaining valuable industry insights. \n\nThis event features a brief (10–15 minute) program from the Professional Women in Building (PWB) Council - content relevant and valuable to all HBA members.
X-ALT-DESC;FMTTYPE=text/html:Join HBA for an All-Member Happy Hour at Area Floors in Lake Oswego!\n\nArea Floors is thrilled to welcome HBA members and their guests to it's Lake Oswego showroom for an evening of connection and relationship-building. Mingle\, network\, and build lasting partnerships with fellow HBA members. Our All Member Happy Hours are a fun and engaging way to grow your professional network while gaining valuable industry insights. \n\nThis event features a brief (10–15 minute) program from the Professional Women in Building (PWB) Council - content relevant and valuable to all HBA members.
LOCATION:17400 SW 65th Ave. Suite 200 Lake Oswego OR 97035
UID:e.4788.1427221
SEQUENCE:3
DTSTAMP:20260421T232444Z
URL:https://members.hbapdx.org/hbaeventcalendar/Details/all-member-happy-hour-presented-by-area-floors-and-programmed-by-the-pwb-council-1687949?sourceTypeId=Hub
END:VEVENT
END:VCALENDAR
