BEGIN:VCALENDAR
VERSION:2.0
PRODID:-//ChamberMaster//Event Calendar 2.0//EN
METHOD:PUBLISH
X-PUBLISHED-TTL:P1H
REFRESH-INTERVAL:P1H
CALSCALE:GREGORIAN
BEGIN:VTIMEZONE
TZID:America/Los_Angeles
BEGIN:DAYLIGHT
RRULE:FREQ=YEARLY;BYMONTH=3;BYDAY=2SU
DTSTART:20070101T000000
TZOFFSETFROM:-0800
TZOFFSETTO:-0700
TZNAME:Pacific Daylight Time
END:DAYLIGHT
BEGIN:STANDARD
RRULE:FREQ=YEARLY;BYMONTH=11;BYDAY=1SU
DTSTART:20070101T000000
TZOFFSETFROM:-0700
TZOFFSETTO:-0800
TZNAME:Pacific Standard Time
END:STANDARD
END:VTIMEZONE
BEGIN:VEVENT
DTSTART;TZID=America/Los_Angeles:20260402T173000
DTEND;TZID=America/Los_Angeles:20260402T193000
X-MICROSOFT-CDO-ALLDAYEVENT:FALSE
SUMMARY:Member Orientation & All Member Happy Hour presented by BASCO and programmed by Home Performance Council
DESCRIPTION:Join HBA for an All-Member Happy Hour at BASCO in Lake Oswego! This event is programmed by HBA's Home Performance Council (HPC).\n\nMix\, mingle\, and network with fellow HBA members to grow your business and form lasting partnerships.\n\nPLUS\, get the HBA 101 at the Member Orientation held 30 minutes before the Happy Hour\, from 5:00 - 5:30pm at the same location. Meet fellow new members\, connect with HBA staff\, and learn how to make the most of your membership\, including how to leverage our Business Solution partners to save money and support your business. To reserve your spot\, just add the RSVP to your Happy Hour Registration.\n\nAll members and their guests are invited to attend.
X-ALT-DESC;FMTTYPE=text/html:Join HBA for an All-Member Happy Hour at BASCO in Lake Oswego! This event is programmed by HBA's Home Performance Council (HPC).\n\nMix\, mingle\, and network with fellow HBA members to grow your business and form lasting partnerships.\n\nPLUS\, get the HBA 101 at the Member Orientation held 30 minutes before the Happy Hour\, from 5:00 - 5:30pm at the same location. Meet fellow new members\, connect with HBA staff\, and learn how to make the most of your membership\, including how to leverage our Business Solution partners to save money and support your business. To reserve your spot\, just add the RSVP to your Happy Hour Registration.\n\nAll members and their guests are invited to attend.
LOCATION:15383 Bangy Rd. Lake Oswego OR 97035
UID:e.4788.1397520
SEQUENCE:3
DTSTAMP:20260422T001153Z
URL:https://members.hbapdx.org/hbaeventcalendar/Details/member-orientation-all-member-happy-hour-presented-by-basco-and-programmed-by-home-performance-council-1651380?sourceTypeId=Hub
END:VEVENT
END:VCALENDAR
